BEGIN:VCALENDAR
VERSION:2.0
PRODID:-//wp-events-plugin.com//7.2.3.1//EN
TZID:Europe/Warsaw
X-WR-TIMEZONE:Europe/Warsaw
BEGIN:VEVENT
UID:8@olgazmijewska.com
DTSTART;TZID=Europe/Warsaw:20250308T163000
DTEND;TZID=Europe/Warsaw:20250308T200000
DTSTAMP:20250225T104840Z
URL:https://olgazmijewska.com/events/kobieca-przestrzen-wolnosci-swiatowy-
 dzien-kobiet-w-fundacji-sztuka-wolnosci/
SUMMARY:Kobieca Przestrzeń Wolności – Światowy Dzień Kobiet w Fundacj
 i Sztuka Wolności
DESCRIPTION:„To jest męski świat\, ale byłby niczym bez kobiety czy dz
 iewczyny” – tak\, w wolnym tłumaczeniu\, śpiewał James Brown – wy
 liczając zasługi i innowacje techniczne mężczyzn. Owo „ale” miało
  chyba być ukłonem w stronę kobiet. Dla mnie jest ono jednak podkreśle
 niem niskiej rangi\, jaka w męskim świecie przypada kobiecie. W wypowied
 zi Browna mężczyzna jest w centrum uwagi. Kim jest tu kobieta? Kwiatkiem
  u kożucha\, paprotką w przykurzonym biurze\, reprezentantką tak zwanej
  płci pięknej\, bez której świat byłby mniej ekscytujący\, a mężcz
 yzna „nikim”?\n\nJames Brown ma rację. Świat jaki znamy jest świate
 m męskim tudzież światem mężczyzny\, tłumacząc tekst piosenki dosł
 ownie. Powód jest bardzo prozaiczny - świat materialny i niematerialny\,
  w którym żyjemy\, został wymyślony\, opisany\, skonstruowany i wyprod
 ukowany głównie przez mężczyzn. Stało się tak dlatego\, że kobietom
  nie wolno było uczyć się\, studiować\, pracować\, decydować o finan
 sach ani o swoim życiu. Kobietom w wielu krajach świata do dziś nie wol
 no pokazywać się publicznie bez towarzystwa mężczyzny albo chociażby 
 przyzwoitki. Jak w takich warunkach wymyślić i zbudować świat?\n\nA je
 dnak na przestrzeni tysiącleci kobiety w krajach tak zwanego Zachodu stop
 niowo wkraczały w świat mężczyzn. Od starożytnej Grecji\, gdzie statu
 s prawny kobiety był podobny do statusu niewolnika\, przez średniowiecze
 \, kiedy palono kobiety\, które miały zbyt dużą wiedzę\, a więc tak
 że – władzę\, aż po ubiegłe stulecie\, gdy kobiety ryzykowały i tr
 aciły życie w imię praw wyborczych. Dzięki pierwszej fali feminizmu wk
 roczyłyśmy w męski świat. I co dalej? W męskim świecie kobiety nadal
  proszą o prawo do decydowania o swoich ciałach. W męskim świecie kobi
 ety zarabiają mniej niż mężczyźni na takim samym stanowisku. W męski
 m świecie kobiety są kupowane przez mężczyzn\, a międzynarodowe grupy
  przestępcze handlują dziewczętami i kobietami tak jak kiedyś handlowa
 no niewolnikami.\n\nDotarłyśmy do punktu\, w którym do szczęścia i sp
 ełnienia nie wystarczą nam już próby dorównania mężczyznom w ich ś
 wiecie. Potrzebujemy wspólnie – z mężczyznami – zmienić ten świat
  tak\, aby był on światem wspólnym. Mężczyźni uzbrojeni w przywileje
  społeczne – czyli światowa mniejszość populacji - przez kilka tysi
 ącleci kształtowali dzieje ludzkości. Mieli dużo czasu na próby i bł
 ędy\, na doświadczanie\, na nazywanie świata i opisywanie go w encyklop
 ediach\, w powieściach\, w księgach będących podstawą religii. Kobiec
 y głos nie tylko nie był tu słyszany\, lecz został zagłuszony przez g
 łosy uczonych. Uczonych mężczyzn\, wszakże tylko mężczyznom wolno by
 ło się uczyć i nauczać. W ten sposób powstawały mity na temat kobiet
 \, jak chociażby domniemana choroba zwana histerią czy rozważania Zygmu
 nta Freuda na temat rzekomej zazdrości kobiet wobec pewnych części cia
 ła mężczyzny.\n\nOd pierwszych sekund życia każdy człowiek zdany jes
 t na innych ludzi. Najpierw to najbliższe opiekunki opowiadają świat dz
 iecku\, później dziecko uczy się świata z książek i podręczników. 
 W przeważającej mierze uczymy się świata przez męski filtr widzenia i
  doświadczania\, ponieważ struktury państwowe i instytucjonalne\, w kt
 órych żyjemy\, bazują na koncepcjach opracowanych przez mężczyzn. Sys
 tem prawny\, system edukacji\, służba zdrowia łącznie z ginekologią i
  procedurami okołoporodowymi – to wszystko w dużym stopniu opracowali 
 mężczyźni. Czy jesteśmy tu widziane i słyszane? Czy nasze potrzeby s
 ą respektowane? Czy nam kobietom jest dobrze w takim świecie? Czy w ogó
 le możemy czuć się u siebie w męskim świecie?\n\nPorozmawiajmy o tym!
  W ramach warsztatów „Sztuka wolności: życie i świat z kobiecej pers
 pektywy”. opowiadam o tym\, dlaczego żyjemy w „męskim świecie” i 
 jak możemy to zmienić. Przedstawiam jungowskie koncepcje Animy i Animusa
 \, czyli wewnętrznych mężczyzny i kobiety\, a także koncepcję „cór
 ki ojca”. Jest także o poszukiwaniu kobiecej ścieżki życia i rozwoju
 \, którą Maureen Murdock nazwała Podróżą Bohaterki. Nie zabraknie r
 ównież czasu na wymianę i dyskusję. Rozmawiamy o naszych doświadczeni
 ach i obserwacjach\, wymieniamy się naszymi kobiecymi perspektywami\, wyp
 owiadamy na głos nasze potrzeby i zastanawiamy się wspólnie nad tym\, c
 o chcemy wnieść do świata\, aby był on bardziej inkluzyjny i w większ
 ym stopniu uwzględniał doświadczenia i potrzeby kobiet.\n\nW zależnoś
 ci od stopnia zaangażowania grupy warsztaty trwają 1\,5-3 godzin. Towarz
 yszy im prezentacja multimedialna. Możliwe jest wykupienie opcji\, w któ
 rej każda uczestniczka oraz instytucja goszcząca otrzymają egzemplarz m
 ojej książki “Wolno(ść). O dobrym życiu szytym na własną miarę
 ”\, w której znajduje się m.in. rozmowa o tematyce warsztatu.\n\n8.03.
 2025 r. godziny 16.30 – 20.00 ul. Kwitnącej Wiśni 24\, 14-100 Idzbark
ATTACH;FMTTYPE=image/jpeg:https://olgazmijewska.com/wp-content/uploads/202
 3_1103_12191300.jpg
END:VEVENT
BEGIN:VTIMEZONE
TZID:Europe/Warsaw
X-LIC-LOCATION:Europe/Warsaw
BEGIN:STANDARD
DTSTART:20241027T020000
TZOFFSETFROM:+0200
TZOFFSETTO:+0100
TZNAME:CET
END:STANDARD
END:VTIMEZONE
END:VCALENDAR