BEGIN:VCALENDAR
VERSION:2.0
PRODID:-//wp-events-plugin.com//7.2.3.1//EN
TZID:Europe/Warsaw
X-WR-TIMEZONE:Europe/Warsaw
BEGIN:VEVENT
UID:19@olgazmijewska.com
DTSTART;TZID=Europe/Warsaw:20251206T120000
DTEND;TZID=Europe/Warsaw:20251206T160000
DTSTAMP:20251201T085527Z
URL:https://olgazmijewska.com/events/oh-tannenbaum-skad-pochodzi-zwyczaj-s
 trojenia-choinki-2/
SUMMARY:Oh Tannenbaum... Skąd pochodzi zwyczaj strojenia choinki?
DESCRIPTION:6 grudnia\, godz. 12\nDom Stowarzyszenia Mniejszości Niemiecki
 ej „Jodły” w Ostródzie\, ul. Herdera 7\n\n\nSpotkanie w ramach proje
 ktu Oh Tannenbaum\,... Skąd pochodzi zwyczaj strojenia choinki?\n\nUroczy
 ste spotkanie adwentowe:\nwspólny posiłek\,\nwystęp dzieci\,\nkoncert n
 iemieckich pieśni adwentowych w wykonaniu Magdaleny Białeckiej (pianino 
 i wokal)\,\nspotkanie przy kawie i herbacie\,\nkrótka prelekcja o wokół
  dnia 6 grudnia (Św. Mikołaj\, Krampus\, Perchten)\;\nwspomnienia Henryk
 a Hocha – adwent i Boże Narodzenie w rodzinie warmińskiej.\n\nPełen o
 pis projektu: Oh\, Tannenbaum\n\nWydarzenie jako jedyne z tego cyklu ma ch
 arakter zamknięty - jest dla członkiń i członków Stowarzyszenia Mniej
 szości Niemieckiej "Jodły" w Ostródzie.\nKolejne spotkania będą miał
 y charakter otwarty.\n\n&nbsp\;
ATTACH;FMTTYPE=image/jpeg:https://olgazmijewska.com/wp-content/uploads/3.p
 ng
END:VEVENT
BEGIN:VTIMEZONE
TZID:Europe/Warsaw
X-LIC-LOCATION:Europe/Warsaw
BEGIN:STANDARD
DTSTART:20251026T020000
TZOFFSETFROM:+0200
TZOFFSETTO:+0100
TZNAME:CET
END:STANDARD
END:VTIMEZONE
END:VCALENDAR