BEGIN:VCALENDAR
VERSION:2.0
PRODID:-//wp-events-plugin.com//7.2.3.1//EN
TZID:Europe/Warsaw
X-WR-TIMEZONE:Europe/Warsaw
BEGIN:VEVENT
UID:20@olgazmijewska.com
DTSTART;TZID=Europe/Warsaw:20251202T110000
DTEND;TZID=Europe/Warsaw:20251202T150000
DTSTAMP:20251201T085339Z
URL:https://olgazmijewska.com/events/oh-tannenbaum-skad-pochodzi-zwyczaj-s
 trojenia-choinki-3/
SUMMARY:Oh Tannenbaum... Skąd pochodzi zwyczaj strojenia choinki?
DESCRIPTION:2 grudnia\, godz. 11\nDom Stowarzyszenia Mniejszości Niemiecki
 ej „Jodły” w Ostródzie\, ul. Herdera 7\n\n\nSpotkanie w ramach proje
 ktu Oh Tannenbaum\,... Skąd pochodzi zwyczaj strojenia choinki?\n\nWarszt
 aty: wspólne przygotowanie wypieków według niemieckich przepisów Tante
  Edith\,\nspotkanie przy kawie i herbacie\,\nkrótka prelekcja o  przesil
 eniu zimowym i historii powstania wieńca adwentowego (Olga Żmijewska)\;\
 nwspomnienia Hildegard Ziółkowskiej – adwent i Boże Narodzenie w Ober
 landzie.\n\nPełen opis projektu: Oh\, Tannenbaum\n\nWydarzenie jest bezp
 łatne i ma charakter otwarty.\nZapraszamy!\n\n&nbsp\;
ATTACH;FMTTYPE=image/jpeg:https://olgazmijewska.com/wp-content/uploads/3.p
 ng
END:VEVENT
BEGIN:VTIMEZONE
TZID:Europe/Warsaw
X-LIC-LOCATION:Europe/Warsaw
BEGIN:STANDARD
DTSTART:20251026T020000
TZOFFSETFROM:+0200
TZOFFSETTO:+0100
TZNAME:CET
END:STANDARD
END:VTIMEZONE
END:VCALENDAR