BEGIN:VCALENDAR
VERSION:2.0
PRODID:-//wp-events-plugin.com//7.2.3.1//EN
TZID:Europe/Warsaw
X-WR-TIMEZONE:Europe/Warsaw
BEGIN:VEVENT
UID:22@olgazmijewska.com
DTSTART;TZID=Europe/Warsaw:20251217T110000
DTEND;TZID=Europe/Warsaw:20251217T150000
DTSTAMP:20251201T085743Z
URL:https://olgazmijewska.com/events/oh-tannenbaum-skad-pochodzi-zwyczaj-s
 trojenia-choinki-4/
SUMMARY:Oh Tannenbaum... Skąd pochodzi zwyczaj strojenia choinki?
DESCRIPTION:17 grudnia\, godz. 11\nDom Stowarzyszenia Mniejszości Niemieck
 iej „Jodły” w Ostródzie\, ul. Herdera 7\n\n\nSpotkanie w ramach proj
 ektu Oh Tannenbaum\,... Skąd pochodzi zwyczaj strojenia choinki?\n\nWarsz
 taty: wspólne przygotowanie wypieków według niemieckich przepisów\,\n
 spotkanie przy kawie i herbacie\,\nkrótka prelekcja o zwyczajach tzw. Dwu
 nastek (Rauhnächte) w kulturach niemieckojęzycznych (Olga Żmijewska)\;\
 nopowieść pastora Waldemara Eggerta  – kultura ewangelicka w Oberland
 zie.\nWystęp nastoletnich gościń specjalnych z Ukrainy: Daryna Obloh (p
 ianino\, wokal) i Uljana Burkivchenko (skrzypce) – ukraiński utwór bo
 żonarodzeniowy „Szczedryk”\n\nPełen opis projektu: Oh\, Tannenbaum\n
 \nWydarzenie jest bezpłatne i ma charakter otwarty.\nZapraszamy!\n\n&nbsp
 \;
ATTACH;FMTTYPE=image/jpeg:https://olgazmijewska.com/wp-content/uploads/3.p
 ng
END:VEVENT
BEGIN:VTIMEZONE
TZID:Europe/Warsaw
X-LIC-LOCATION:Europe/Warsaw
BEGIN:STANDARD
DTSTART:20251026T020000
TZOFFSETFROM:+0200
TZOFFSETTO:+0100
TZNAME:CET
END:STANDARD
END:VTIMEZONE
END:VCALENDAR