BEGIN:VCALENDAR
VERSION:2.0
PRODID:-//wp-events-plugin.com//7.2.3.1//EN
TZID:Europe/Warsaw
X-WR-TIMEZONE:Europe/Warsaw
BEGIN:VEVENT
UID:23@olgazmijewska.com
DTSTART;TZID=Europe/Warsaw:20251213T140000
DTEND;TZID=Europe/Warsaw:20251213T180000
DTSTAMP:20251201T085631Z
URL:https://olgazmijewska.com/events/oh-tannenbaum-skad-pochodzi-zwyczaj-s
 trojenia-choinki-5/
SUMMARY:Oh Tannenbaum... Skąd pochodzi zwyczaj strojenia choinki?
DESCRIPTION:13 grudnia\, godz. 14\nKaplica kościoła Ewangelicko-Metodysty
 cznego w Ostródzie\,ul. Sienkiewicza 22\n\nSpotkanie w ramach projektu Oh
  Tannenbaum\,... Skąd pochodzi zwyczaj strojenia choinki?\n\nSpotkanie pr
 zy poczęstunku\, kawie i herbacie\,\nwspólne śpiewanie\,\nkrótka prele
 kcja o zwyczajach wokół tzw. Bożego Narodzenia (strojenie choinki\, kul
 inaria\, podarunki\, Weihnachstmann i Christkind) w kulturach niemieckoję
 zycznych\;\nwspomnienia Richarda Eberharda – adwent i Boże Narodzenie w
  rodzinie oberlandzkiej\n\nPełen opis projektu: Oh\, Tannenbaum\n\nWydarz
 enie jest bezpłatne i ma charakter otwarty.\nZapraszamy!\n\n&nbsp\;
ATTACH;FMTTYPE=image/jpeg:https://olgazmijewska.com/wp-content/uploads/3.p
 ng
END:VEVENT
BEGIN:VTIMEZONE
TZID:Europe/Warsaw
X-LIC-LOCATION:Europe/Warsaw
BEGIN:STANDARD
DTSTART:20251026T020000
TZOFFSETFROM:+0200
TZOFFSETTO:+0100
TZNAME:CET
END:STANDARD
END:VTIMEZONE
END:VCALENDAR