BEGIN:VCALENDAR
VERSION:2.0
PRODID:-//wp-events-plugin.com//7.2.3.1//EN
TZID:Europe/Warsaw
X-WR-TIMEZONE:Europe/Warsaw
BEGIN:VEVENT
UID:18@olgazmijewska.com
DTSTART;TZID=Europe/Warsaw:20251126T160000
DTEND;TZID=Europe/Warsaw:20251126T200000
DTSTAMP:20251124T162654Z
URL:https://olgazmijewska.com/events/oh-tannenbaum-skad-pochodzi-zwyczaj-s
 trojenia-choinki/
SUMMARY:Oh Tannenbaum... Skąd pochodzi zwyczaj strojenia choinki?
DESCRIPTION:26. listopada\, godz. 16\nDom Stowarzyszenia Mniejszości Niemi
 eckiej „Jodły” w Ostródzie\, ul. Herdera 7\n\n\nPierwsze spotkanie w
  ramach projektu Oh\, Tannenbaum\,... Skąd pochodzi zwyczaj strojenia cho
 inki?\n\nwarsztaty: wspólne plecenie wieńca adwentowego oraz spotkanie p
 rzy kawie i herbacie\nPełen opis projektu:Oh\, Tannenaum \n\n&nbsp\;
ATTACH;FMTTYPE=image/jpeg:https://olgazmijewska.com/wp-content/uploads/Oh-
 Tannenbaum-in-IG.png
END:VEVENT
BEGIN:VTIMEZONE
TZID:Europe/Warsaw
X-LIC-LOCATION:Europe/Warsaw
BEGIN:STANDARD
DTSTART:20251026T020000
TZOFFSETFROM:+0200
TZOFFSETTO:+0100
TZNAME:CET
END:STANDARD
END:VTIMEZONE
END:VCALENDAR