BEGIN:VCALENDAR
VERSION:2.0
PRODID:-//wp-events-plugin.com//7.2.3.1//EN
TZID:Europe/Warsaw
X-WR-TIMEZONE:Europe/Warsaw
BEGIN:VEVENT
UID:17@olgazmijewska.com
DTSTART;TZID=Europe/Warsaw:20251026T180000
DTEND;TZID=Europe/Warsaw:20251026T203000
DTSTAMP:20251018T110448Z
URL:https://olgazmijewska.com/events/slam-poetycki-z-okazji-urodzin-olszty
 na/
SUMMARY:Slam poetycki z okazji urodzin Olsztyna
DESCRIPTION:26 października o godzinie 18.00 w sali pod amfiteatrem w Olsz
 tynie poprowadzę slam poetycki z okazji urodzin Olsztyna.\nWydarzenie ma 
 charakter ogólnopolski - wystąpi m.in. obecny mistrz Polski w slamie poe
 tyckim.
ATTACH;FMTTYPE=image/jpeg:https://olgazmijewska.com/wp-content/uploads/26.
 10.jpeg
END:VEVENT
BEGIN:VTIMEZONE
TZID:Europe/Warsaw
X-LIC-LOCATION:Europe/Warsaw
BEGIN:STANDARD
DTSTART:20251026T020000
TZOFFSETFROM:+0200
TZOFFSETTO:+0100
TZNAME:CET
END:STANDARD
END:VTIMEZONE
END:VCALENDAR