BEGIN:VCALENDAR
VERSION:2.0
PRODID:-//wp-events-plugin.com//7.2.3.1//EN
TZID:Europe/Warsaw
X-WR-TIMEZONE:Europe/Warsaw
BEGIN:VEVENT
UID:11@olgazmijewska.com
DTSTART;TZID=Europe/Warsaw:20250629T090000
DTEND;TZID=Europe/Warsaw:20250629T235900
DTSTAMP:20250225T084306Z
URL:https://olgazmijewska.com/events/statek-kultury-oberland-kraina-filozo
 fow-kraina-inkluzji-3/
SUMMARY:Statek Kultury. Oberland – kraina filozofów\, kraina inkluzji
DESCRIPTION:
ATTACH;FMTTYPE=image/jpeg:https://olgazmijewska.com/wp-content/uploads/Sta
 tek-Kultury-z-lotu-2-zamek.png
END:VEVENT
BEGIN:VTIMEZONE
TZID:Europe/Warsaw
X-LIC-LOCATION:Europe/Warsaw
BEGIN:DAYLIGHT
DTSTART:20250330T030000
TZOFFSETFROM:+0100
TZOFFSETTO:+0200
TZNAME:CEST
END:DAYLIGHT
END:VTIMEZONE
END:VCALENDAR