BEGIN:VCALENDAR
VERSION:2.0
PRODID:-//wp-events-plugin.com//7.2.3.1//EN
TZID:Europe/Warsaw
X-WR-TIMEZONE:Europe/Warsaw
BEGIN:VEVENT
UID:16@olgazmijewska.com
DTSTART;TZID=Europe/Warsaw:20250722T180000
DTEND;TZID=Europe/Warsaw:20250722T200000
DTSTAMP:20250721T083209Z
URL:https://olgazmijewska.com/events/stnort-festival-rozmowa-o-przemocy-se
 ksualnej-wobec-kobiet-jako-broni-wojennej/
SUMMARY:Stn:ORT Festival - rozmowa o przemocy seksualnej wobec kobiet jako 
 broni wojennej
DESCRIPTION:\n22 lipca 2025 r. o godzinie 18:00 na zaproszenie Ifa - Instit
 ut für Auslandsbeziehungen poprowadzę rozmowę w ramach festiwalu Stn:or
 t w Sztynorcie.\n\n\n\nRozmowa z pisarką Joanną Wańkowską-Sobiesiak or
 az prawniczką\, uchodźczynią i prezeską Fundacji "Dwa Skrzydła UA" Te
 tianą Revenko będzie dotyczyła trudnego tematu\, który pozostaje owia
 ny tabu. Chodzi o przemoc seksualną wobec kobiet podczas wojen.\n\n\n\nPu
 nktem wyjścia naszej rozmowy będzie II Wojna Światowa\, wokół której
  toczą się tematy poruszane w książkach Joanny Wańkowskiej-Sobiesiak.
 \nZ kolei Tetiana Revenko będzie reprezentowała bardzo aktualny głos w 
 tej sprawie\, wszakże w Ukrainie trwa okrutna wojna\, gdzie przemoc seksu
 alna jest również stosowana - nie tylko wobec kobiet.\n\n\n\nTo nie jest
  lekki i przyjemny temat.\nMimo wszystko zapraszam na rozmowę oraz na odb
 ywające się wcześniej (godz. 16:00) warsztaty prowadzone przez Joannę 
 Wańkowską-Sobiesiak w pięknie odrestaurowanym spichlerzu przy pałacu w
  Sztynorcie - Memuak\n
ATTACH;FMTTYPE=image/jpeg:https://olgazmijewska.com/wp-content/uploads/pla
 kat1.jpg
END:VEVENT
BEGIN:VTIMEZONE
TZID:Europe/Warsaw
X-LIC-LOCATION:Europe/Warsaw
BEGIN:DAYLIGHT
DTSTART:20250330T030000
TZOFFSETFROM:+0100
TZOFFSETTO:+0200
TZNAME:CEST
END:DAYLIGHT
END:VTIMEZONE
END:VCALENDAR